{
 "currentVersion": 11.1,
 "serviceDescription": "RMO/Rangamati_LULC_Base",
 "name": "RMO/Rangamati_LULC_Base",
 "description": "",
 "extent": {
  "xmin": 389098.0051870941,
  "ymin": 2416379.8015071102,
  "xmax": 462538.0051870941,
  "ymax": 2625629.8015071102,
  "spatialReference": {
   "wkid": 32646,
   "latestWkid": 32646
  }
 },
 "initialExtent": {
  "xmin": 389098.0051870941,
  "ymin": 2416379.8015071102,
  "xmax": 462538.0051870941,
  "ymax": 2625629.8015071102,
  "spatialReference": {
   "wkid": 32646,
   "latestWkid": 32646
  }
 },
 "fullExtent": {
  "xmin": 389098.0051870941,
  "ymin": 2416379.8015071102,
  "xmax": 462538.0051870941,
  "ymax": 2625629.8015071102,
  "spatialReference": {
   "wkid": 32646,
   "latestWkid": 32646
  }
 },
 "sortableFields": "",
 "bandCount": 1,
 "pixelType": "U4",
 "minValues": [
  1
 ],
 "maxValues": [
  5
 ],
 "meanValues": [
  3.6610495317369427
 ],
 "stdvValues": [
  1.048229687651311
 ],
 "hasMultidimensions": false,
 "pixelSizeX": 30,
 "pixelSizeY": 30,
 "datasetFormat": "GRID",
 "uncompressedSize": 8537400,
 "blockWidth": 256,
 "blockHeight": 16,
 "compressionType": "None",
 "bandNames": [
  "LULC_Base"
 ],
 "allowCopy": true,
 "allowAnalysis": true,
 "itemAccess": false,
 "noDataValue": 0,
 "noDataValues": [
  0
 ],
 "minPixelSize": 0,
 "maxPixelSize": 0,
 "copyrightText": "",
 "serviceDataType": "esriImageServiceDataTypeThematic",
 "serviceSourceType": "esriImageServiceSourceTypeDataset",
 "objectIdField": "",
 "fields": [],
 "capabilities": "Image,Metadata,Mensuration",
 "defaultMosaicMethod": "Center",
 "allowedMosaicMethods": "",
 "sortField": "",
 "sortValue": null,
 "sortAscending": true,
 "mosaicOperator": "First",
 "defaultCompressionQuality": 75,
 "defaultResamplingMethod": "Bilinear",
 "maxImageHeight": 4100,
 "maxImageWidth": 15000,
 "allowRasterFunction": true,
 "rasterFunctionInfos": [
  {
   "name": "None",
   "description": "",
   "help": ""
  }
 ],
 "rasterTypeInfos": [
  {
   "name": "Raster Dataset",
   "description": "Supports all ArcGIS Raster Datasets",
   "help": ""
  }
 ],
 "mensurationCapabilities": "Basic",
 "hasHistograms": false,
 "hasColormap": false,
 "hasRasterAttributeTable": true,
 "minScale": 0,
 "maxScale": 0,
 "exportTilesAllowed": false,
 "supportsStatistics": false,
 "supportsAdvancedQueries": false,
 "editFieldsInfo": null,
 "ownershipBasedAccessControlForRasters": null,
 "allowComputeTiePoints": false,
 "useStandardizedQueries": true,
 "advancedQueryCapabilities": {
  "useStandardizedQueries": true,
  "supportsStatistics": false,
  "supportsOrderBy": false,
  "supportsDistinct": false,
  "supportsPagination": false
 },
 "spatialReference": {
  "wkid": 32646,
  "latestWkid": 32646
 }
}
