View In:
ArcGIS JavaScript
ArcGIS Online Map Viewer
ArcGIS Earth
Service Description: ADB005RasterElevation
Name: ADB005RasterElevation
Description:
Single Fused Map Cache: false
Extent:
XMin: 87.88659506991026
YMin: 20.507306783602985
XMax: 92.79535982517126
YMax: 26.762115549933227
Spatial Reference: 4326
(4326)
LatestVCSWkid(0)
Initial Extent:
XMin: 87.88659506991026
YMin: 20.507306783602985
XMax: 92.79535982517126
YMax: 26.762115549933227
Spatial Reference: 4326
(4326)
LatestVCSWkid(0)
Full Extent:
XMin: 87.88659506991026
YMin: 20.507306783602985
XMax: 92.79535982517126
YMax: 26.762115549933227
Spatial Reference: 4326
(4326)
LatestVCSWkid(0)
Pixel Size X: 0.0028639234278068867
Pixel Size Y: 0.0028639234278068876
Band Count: 1
Pixel Type: S32
RasterFunction Infos: {"rasterFunctionInfos": [
{
"name": "ElevationRasterFunction4",
"description": "ADB005",
"help": ""
},
{
"name": "None",
"description": "",
"help": ""
}
]}
Mensuration Capabilities: Basic
Has Histograms: true
Has Colormap: false
Has Multi Dimensions : false
Rendering Rule:
Min Scale: 0
Max Scale: 0
Copyright Text:
Service Data Type: esriImageServiceDataTypeThematic
Min Values: -45
Max Values: 94006
Mean Values: 2603.5776404466264
Standard Deviation Values: 6138.284993085179
Object ID Field:
Fields:
None
Default Mosaic Method: Center
Allowed Mosaic Methods:
SortField:
SortValue: null
Mosaic Operator: First
Default Compression Quality: 75
Default Resampling Method: Bilinear
Max Record Count: null
Max Image Height: 4100
Max Image Width: 15000
Max Download Image Count: null
Max Mosaic Image Count: null
Allow Raster Function: true
Allow Copy: true
Allow Analysis: true
Allow Compute TiePoints: false
Supports Statistics: false
Supports Advanced Queries: false
Use StandardizedQueries: true
Raster Type Infos:
Name: Raster Dataset
Description: Supports all ArcGIS Raster Datasets
Help:
Has Raster Attribute Table: true
Edit Fields Info: null
Ownership Based AccessControl For Rasters: null
Child Resources:
Info
Raster Attribute Table
Histograms
Statistics
Key Properties
Legend
Raster Function Infos
Supported Operations:
Export Image
Identify
Measure
Compute Histograms
Compute Statistics Histograms
Get Samples
Compute Class Statistics
Query Boundary
Compute Pixel Location
Compute Angles
Validate
Project